BEGIN:VCALENDAR
VERSION:2.0
PRODID:-//wp-events-plugin.com//7.2.2.1//EN
BEGIN:VEVENT
UID:181@enplus-pellets.eu
DTSTART;TZID=Europe/Brussels;VALUE=DATE:20260915
DTEND;TZID=Europe/Brussels;VALUE=DATE:20260917
DTSTAMP:20260326T105032Z
URL:https://enplus-pellets.eu/ENplus
 events/13th-enplus-inspectors-workshop/
SUMMARY:13th ENplus® Inspectors’ Workshop
DESCRIPTION:The 13th ENplus® Inspectors’ Workshop will take place o
 n 15th September 2026\, in Brussels. Second session is now available on 16
 th September 2026.\n\nThe workshop is intended primarily for the inspecto
 rs who perform ENplus® inspections of pellet production plants\, traders
 ’\, or service providers’ facilities. This year’s workshop will focu
 s on the implementation of the new ENplus® documentation which is avail
 able to download on our website. Please make sure to read and review the 
 documents (ENplus® standards and ENplus® procedural documents) before 
 the event. This step will help everyone to have better group discussions a
 nd to gather constructive feedback from your end during the event.\n\nPlea
 se click here to view the provisional agenda.\n\nNote that every inspecto
 r performing ENplus® inspections has to participate at least every se
 cond year in an inspectors’ workshop organised by the ENplus® Interna
 tional Management (IM) as stated in the ENplus® standard ST 1002\, caus
 e 6.1.3. The non-participation is subject to the suspension of the inspec
 tors’ activities within the ENplus® scheme so please make sure that 
 you meet the requirement.\n\nThe attendance fee is 250 euros (21% VAT will
  apply to all attendees). Please also note that the registration is only v
 alid after the bank transfer of the participation fee has been made (payme
 nt on site is not possible).\n\nThe venue is Bioenergy Europe\, located a
 t Place du Champs de Mars 2\, 1050 Brussels\, Belgium.\n\nPlease contact u
 s at enplus@bioenergyeurope.org if you have any questions.\n\nThe sessio
 n on 15th September 2026 is now fully booked.\n\nRegistration for the sess
 ion on 16 September 2026 here!
ATTACH;FMTTYPE=image/jpeg:https://enplus-pellets.eu/wp-content/uploads/202
 4/04/ArticleGraphicTemplate_Training-01.jpg
CATEGORIES:International events
LOCATION:Bioenergy Europe\, Place du Champ de Mars 2\, Brussels\, Belgium\,
  1050\, Belgium
X-APPLE-STRUCTURED-LOCATION;VALUE=URI;X-ADDRESS=Place du Champ de Mars 2\, 
 Brussels\, Belgium\, 1050\, Belgium;X-APPLE-RADIUS=100;X-TITLE=Bioenergy E
 urope:geo:0,0
END:VEVENT
BEGIN:VTIMEZONE
TZID:Europe/Brussels
X-LIC-LOCATION:Europe/Brussels
BEGIN:DAYLIGHT
DTSTART:20260329T030000
TZOFFSETFROM:+0100
TZOFFSETTO:+0200
TZNAME:CEST
END:DAYLIGHT
END:VTIMEZONE
END:VCALENDAR