BEGIN:VCALENDAR
VERSION:2.0
PRODID:-//wp-events-plugin.com//7.2.2.1//EN
BEGIN:VEVENT
UID:53@enplus-pellets.eu
DTSTART:20240610T090000Z
DTEND:20240611T180000Z
DTSTAMP:20250708T124901Z
URL:https://enplus-pellets.eu/ENplus events/9th-pellet-forum/
SUMMARY:9th Pellet Forum
DESCRIPTION:Organised by Magazyn Biomasa\, Pellet Forum is a meeting place 
 for producers and distributors of pellets and pellet boilers\, technology 
 suppliers\, representatives from the energy and heating sectors\, as well 
 as local government and industry associations.\n\n\n\nIt is not only the m
 ost important industry conference in Poland\, but also an opportunity to e
 xchange experience and discuss the most important issues in the national a
 nd European pellet market.\n\nThe ninth edition of the Pellet Forum will b
 e held at the Hotel Nadmorski in Gdynia on 10 and 11 June 2024.\n\nReserve
  your date today!\nFind out more here!
ATTACH;FMTTYPE=image/jpeg:https://enplus-pellets.eu/wp-content/uploads/202
 4/05/ArticleGraphicTemplate_Pellet-Forum-01-01.png
CATEGORIES:International events
LOCATION:Hotel Nadmorski\, Juliana Ejsmonda 2\, Gdynia\, Polska\, 81-409\, 
 Poland
X-APPLE-STRUCTURED-LOCATION;VALUE=URI;X-ADDRESS=Juliana Ejsmonda 2\, Gdynia
 \, Polska\, 81-409\, Poland;X-APPLE-RADIUS=100;X-TITLE=Hotel Nadmorski:geo
 :0,0
END:VEVENT
END:VCALENDAR