BEGIN:VCALENDAR
VERSION:2.0
PRODID:-//wp-events-plugin.com//7.2.2.1//EN
BEGIN:VEVENT
UID:189@enplus-pellets.eu
DTSTART:20260421T090000Z
DTEND:20260423T190000Z
DTSTAMP:20260401T145451Z
URL:https://enplus-pellets.eu/ENplus events/argus-biomass-conference-2026/
SUMMARY:Argus Biomass Conference 2026
DESCRIPTION:The Argus Biomass Conference 2026 brings together 450+ senior 
 decision‑makers from over 275 companies and 40+ countries to decode mar
 ket change\, explore new revenue opportunities\, and build long‑term par
 tnerships across the biomass\, biochar\, biofuels and industrial decarboni
 sation value chains. Across three days\, delegates will hear from 50+ expe
 rt speakers\, including leaders from major utilities\, pellet producers\, 
 shipping firms\, financiers\, technology innovators\, and global policy bo
 dies.\n\nAttendees include pellet and biochar producers\, traders\, logist
 ics providers\, technology developers\, industrial consumers\, financiers\
 , regulators\, energy buyers\, and sustainability leaders.\n\nWhether you
 ’re looking to secure supply\, explore new markets\, strengthen partners
 hips\, or understand the next phase of biomass in the energy transition\, 
 this conference delivers the insight and access you need.\n\nREGISTER HERE
ATTACH;FMTTYPE=image/jpeg:https://enplus-pellets.eu/wp-content/uploads/202
 6/04/Argus-Biomass-UK.png
CATEGORIES:International events
LOCATION:QEII Centre\, Broad Sanctuary\, London\, United Kingdom\, SW1P 3EE
 \, United Kingdom
X-APPLE-STRUCTURED-LOCATION;VALUE=URI;X-ADDRESS=Broad Sanctuary\, London\, 
 United Kingdom\, SW1P 3EE\, United Kingdom;X-APPLE-RADIUS=100;X-TITLE=QEII
  Centre:geo:0,0
END:VEVENT
END:VCALENDAR