BEGIN:VCALENDAR
VERSION:2.0
PRODID:-//wp-events-plugin.com//7.2.2.1//EN
BEGIN:VEVENT
UID:172@enplus-pellets.eu
DTSTART;TZID=Europe/Brussels:20260114T100000
DTEND;TZID=Europe/Brussels:20260114T110000
DTSTAMP:20251125T150012Z
URL:https://enplus-pellets.eu/ENplus
 events/enplus-webinar-on-how-to-submit-the-annual-figures-to-the-enplus-ce
 rtification-platform-2/
SUMMARY:ENplus® webinar on how to submit the annual figures to the ENplus
 ® Certification Platform
DESCRIPTION:ENplus® is organising a webinar dedicated to the companies int
 erested to understand better how to submit the annual figures to the ENplu
 s® Certification Platform (Radix Tree). The online event will take place 
 on 14th of January 2026 (10:00 АM - 11:00 АM CET).\n\nIf you are a qual
 ity manager or a representative of a certified company that would like to 
 attend\, please register for the free event here.\n\nNote that the webinar
  will be held in English.
ATTACH;FMTTYPE=image/jpeg:https://enplus-pellets.eu/wp-content/uploads/202
 4/12/special-webinar-01.jpg
CATEGORIES:International events
END:VEVENT
BEGIN:VTIMEZONE
TZID:Europe/Brussels
X-LIC-LOCATION:Europe/Brussels
BEGIN:STANDARD
DTSTART:20251026T020000
TZOFFSETFROM:+0200
TZOFFSETTO:+0100
TZNAME:CET
END:STANDARD
END:VTIMEZONE
END:VCALENDAR