BEGIN:VCALENDAR
VERSION:2.0
PRODID:-//wp-events-plugin.com//7.2.2.1//EN
BEGIN:VEVENT
UID:160@enplus-pellets.eu
DTSTART;VALUE=DATE:20251105
DTEND;VALUE=DATE:20251107
DTSTAMP:20250909T094830Z
URL:https://enplus-pellets.eu/ENplus
 events/european-bioenergy-future-2025/
SUMMARY:European Bioenergy Future 2025
DESCRIPTION:The European Bioenergy Future (EBF) conference will return on 5
  – 6 November 2025 at Le Louise\, Brussels (Av. de la Toison d'Or 40\, 1
 050)\, in a refreshed\, more condensed format tailored especially for Bioe
 nergy Europe stakeholders. Organised by Bioenergy Europe\, the 2025 editio
 n will offer a unique opportunity to engage in focused networking and c
 onnect directly with key stakeholders and decision-makers in Brussels. 
 While shorter in duration\, it continues EBF’s tradition of being a key 
 meeting point for the sector\, offering a space for meaningful dialogue\, 
 strategic networking\, and impactful connections with those driving Europe
 's renewable energy transition.\n\nFind out more information here: bioene
 rgyeurope.org/ebf2025
ATTACH;FMTTYPE=image/jpeg:https://enplus-pellets.eu/wp-content/uploads/202
 5/09/EBF-2025.png
CATEGORIES:International events
LOCATION:Le Louise Hotel Brussels\, Av. de la Toison d'Or 40\,  Bruxelles\,
  1050\, Belgium
X-APPLE-STRUCTURED-LOCATION;VALUE=URI;X-ADDRESS=Av. de la Toison d'Or 40\, 
  Bruxelles\, 1050\, Belgium;X-APPLE-RADIUS=100;X-TITLE=Le Louise Hotel Bru
 ssels:geo:0,0
END:VEVENT
END:VCALENDAR