BEGIN:VCALENDAR
VERSION:2.0
PRODID:-//wp-events-plugin.com//7.2.2.1//EN
BEGIN:VEVENT
UID:171@enplus-pellets.eu
DTSTART;TZID=Europe/Rome:20260227T090000
DTEND;TZID=Europe/Rome:20260227T130000
DTSTAMP:20251223T085050Z
URL:https://enplus-pellets.eu/ENplus events/european-pellet-forum-2026/
SUMMARY:European Pellet Forum 2026
DESCRIPTION:The pellet world is preparing for one of the most awaited event
 s of the year: the European Pellet Forum 2026\, which will take place in V
 erona on 27th February 2026\, from 9:00 to 13:00\, within the official fra
 mework of Progetto Fuoco\, the most important global event dedicated to bi
 omass heating.\n\nOrganized by AIEL – Italian Agroforestry Energy Associ
 ation\, in collaboration with the European Pellet Council and Bioenergy Eu
 rope\, the event represents a strategic meeting point for pellet producers
 \, traders\, retailers\, heating manufacturers\, professionals\, instituti
 ons and stakeholders of the supply chain.\n\nWhy participate\n\nThe Europe
 an Pellet Forum 2026 is designed for all actors in the pellet supply chain
  who want to:\n\n 	Update themselves on trends and forecasts for 2026–20
 27.\n 	Understand the impacts of European regulations on the market.\n 	Sh
 are experiences and create new collaborations.\n 	Strengthen their positio
 n in a rapidly evolving sector.\n\nThanks to its location within Progetto 
 Fuoco\, participants will also be able to enjoy a complete sectorial exper
 ience\, meeting companies\, technicians and professionals from all over th
 e world.\n\n👉 Save the date: 27 February 2026\, Verona. And to receive 
 all upcoming communications about this event\, subscribe to the energiadal
 legno newsletter: every Tuesday\, once a week\, a timely update on the woo
 d-energy supply chain.\n\nRegistration: HERE\n\nMore information about the
  event is available on the official website: https://pellet-forum.eu/ 
ATTACH;FMTTYPE=image/jpeg:https://enplus-pellets.eu/wp-content/uploads/202
 5/11/EPForum_2026_-420-×-530.jpg
CATEGORIES:International events
LOCATION:Progetto Fuoco 2026\, Verona\, Verona\, Italy \, Italy
X-APPLE-STRUCTURED-LOCATION;VALUE=URI;X-ADDRESS=Verona\, Verona\, Italy \, 
 Italy;X-APPLE-RADIUS=100;X-TITLE=Progetto Fuoco 2026:geo:0,0
END:VEVENT
BEGIN:VTIMEZONE
TZID:Europe/Rome
X-LIC-LOCATION:Europe/Rome
BEGIN:STANDARD
DTSTART:20251026T020000
TZOFFSETFROM:+0200
TZOFFSETTO:+0100
TZNAME:CET
END:STANDARD
END:VTIMEZONE
END:VCALENDAR