BEGIN:VCALENDAR
VERSION:2.0
PRODID:-//wp-events-plugin.com//7.2.2.1//EN
BEGIN:VEVENT
UID:174@enplus-pellets.eu
DTSTART:20260427T090000Z
DTEND:20260429T190000Z
DTSTAMP:20251216T084839Z
URL:https://enplus-pellets.eu/ENplus
 events/training-for-inspectors-of-pellet-plants-10/
SUMMARY:Training for inspectors of pellet plants
DESCRIPTION:This training is organised for inspectors who want to perform E
 Nplus® inspections of pellet production plants and pellet trader facilit
 ies.\n\n\n\nAs an inspector\, if you want to be involved only in the inspe
 ction of pellet producers\, the participation in the 2-day training (Modul
 e 1: 27 and 28 April 2026\, fees: 1800€) will be required. If the inspec
 tors want to be involved only in the inspection of the pellet traders\, th
 e 1-day training (Module 2: 29 April 2026\, fees: 925€) will be required
 . The inspectors who are involved in the inspection of pellet producers an
 d traders\, should take part in the 3-day training (Module 3: 27\, 28 and 
 29 April 2026\, fees: 2200€). Participation in this training is consider
 ed adequate proof of qualification for persons intending to do ENplus® i
 nspections (see requirements stated in the ENplus® standard ST 1002).\n
 \nThe content of the training is provided by BEA Institut für Bioenergie
 \, an organisation with extensive experience in inspecting pellet plants a
 nd developing standards related to pellet quality. The main trainer will b
 e Martin Englisch.\n\nThe training will include an introduction to the rel
 evant standards\, the requirements of ENplus® scheme\, practical trainin
 g in determining physical parameters of pellets\, and inspection of two mo
 dern pellet production plants. The participants would need to pass a test 
 for obtaining the successfully completed certificate by the end of the tra
 ining. The certificate will be sent electronically to the participants wit
 hin one week after the training.\n\nTime &amp\; Location\n\nOn Monday Apri
 l 27th\, participants will meet in Vienna at 09:00 (details will be provid
 ed to participants directly by the trainer closer to the date). There will
  be a transfer and a visit of a pellet plant\, before proceeding to the ho
 tel (outside Vienna)\, where lectures and practical training will take pla
 ce.\n\nOn Tuesday April 28th\, further lectures will take place in the mor
 ning\, followed by an audit of a pellet plant in the afternoon. The traini
 ng will end on Tuesday latest at 18:00 for the ones who only register for 
 a 2-day training.\n\nOn Wednesday April 29th\, further lectures will take
  place in the morning about trade market and ENplus® requirements for tr
 aders. The training will be followed by an audit of a trader facility in t
 he afternoon. The training will end on Wednesday latest at 17:30.\n\nCosts
 \n\nThe training costs per module is:\n\nModule 1: 1800 € (VAT excl) Thi
 s fee includes training and documentation\, accommodation for the 27th of 
 April in the hotel\, full board for both days and all transfer costs from 
 Vienna to the training locations.\n\nModule 2: 925 € (VAT excl) This fe
 e includes training\, documentation\, and all transfer costs from Vienna t
 o the training locations.\n\nModule 3: 2200 € (VAT excl) This fee includ
 es training and documentation\, accommodation for the 27th and 28th of Apr
 il in the hotel\, full board for three days and all transfer costs from Vi
 enna to the training locations.\n\nParticipants must arrange and cover the
 ir travel costs to Vienna.\n\nLanguage\n\nThe training will be held entire
 ly in English.\n\nPrior to the training\, the participants shall familiari
 se themselves with the requirements of the scheme. The ENplus® documenta
 tion is available here: https://enplus-pellets.eu/technical-documentation
 /\n\nProgramme\n\nMonday\, 27th April 2026\n\n9:00 Meeting point Vienna\n9
 :00 – 10:00 Transfer to the pellet plant\n10:00 – 11:30 Visit the pell
 et plant\n11:30 – 12:00 Transfer to the hotel\n12:00 – 13:00 Lunch bre
 ak\n13:30 – 14:30 Pellet markets and their specific demands\n14:30 – 1
 5:30 ENplus® standards\, certification procedure and structure of ENplus
 ® scheme\n15:00 – 15:30 Coffee break\n15:30 – 16:30 Quality paramete
 rs in ENplus® scheme and their practical relevance\n16:00 – 16:30 Pell
 et laboratory equipment and determination of physical properties\n16:30 
 – 18:00 Practical training\n19:00 Dinner\n\nTuesday\, 28th April 2026\n\
 n9:00 – 10:15 ENplus® scheme structure and documents\, EPC website\, R
 adix (producer only)\n10:15 – 10:45 Audit preparation and contract requi
 rements\n10:45 – 11:00 Coffee break\n11:00 – 12:30 Audit (theory and e
 xamples)\n12:30 – 13:30 Lunch break\n13:30 – 14:00 Transfer to the pel
 let plant\n14:00 – 16:30 Audit of the pellet plant\n16:30 – 18:00 Tran
 sfer to the hotel\n19:00 Dinner\n\nWednesday\, 29th April 2026\n\n9:00 –
  10:00 ENplus® scheme structure and documents\, EPC website\, Radix (tra
 der only)\n10:00 – 11:00 Pellet trade options and markets\n11:00 – 11:
 15 Coffee break\n11:15 – 12:15 Documentation including mass balance\n12:
 15 – 13:15 Lunch break\n13:15 – 13:30 Transfer to the trader facility\
 n13:30 – 14:30 Audit trader (office: sales incl. mass balance\, bag desi
 gn)\n14:30 – 15:30 Audit of blower truck\, loading station and bagging s
 tation\n15:30 – 16:30 Transfer to Vienna\n16:30 – 17:30 Visit of accre
 dited Lab Vienna\n17:30 – 17:45 Multiple choice test\n\nRegistration\n\n
 Click on the following link to subscribe: REGISTRATION.\n\nNote\n\nThe ma
 ximum number of participants is 10 and the minimum number is 4. To ensu
 re a place\, please register early. Registration closes maximum on Friday
 \, 10 April 2026. We reserve the right to close the registration if the ma
 ximum number of participants is reached before this given date. If by the 
 given date we have received the minimum number of participants (4 persons)
 \, the training will take pace. Otherwise\, we reserve the right to cancel
  the event.\n\nThe registration is only valid after the bank transfer of t
 he participation fee has been received (an invoice will be sent once the r
 egistration is done). Payment on site is not possible.\n\nCancellation pr
 ior to 10th April 2026\, will be reimbursed in full for the participants w
 ho cannot attend the training. After this date the fees will not be reim
 bursed. However\, the participant may name a substitute to attend in their
  place.
ATTACH;FMTTYPE=image/jpeg:https://enplus-pellets.eu/wp-content/uploads/202
 5/06/inspectors-training.png
CATEGORIES:International events
END:VEVENT
END:VCALENDAR