BEGIN:VCALENDAR
VERSION:2.0
PRODID:-//wp-events-plugin.com//7.2.2.1//EN
BEGIN:VEVENT
UID:106@enplus-pellets.eu
DTSTART;VALUE=DATE:20251001
DTEND;VALUE=DATE:20251003
DTSTAMP:20250924T130603Z
URL:https://enplus-pellets.eu/ENplus
 events/training-for-quality-managers-belgium-2025/
SUMMARY:Training for Quality Managers: Belgium
DESCRIPTION:ENplus® organises 2 identical training courses for Quality Man
 agers in Brussels\, Belgium on 1 October 2025 and 2 October 2025.\n\nThe t
 raining will be conducted in English and is dedicated to any certified com
 pany managed by the ENplus® International Management. It is also open to
  anyone interested in discovering about the world-leading pellet certifica
 tion.\n\nAs ENplus® quality manager\, this training course is mandatory 
 if you have never attended a quality manager training in the current certi
 fication period.\n\nDetails of the program can be found in the agenda: Age
 nda (the same applies for both 1 and 2 October 2025)\n\nThe training parti
 cipation fee for ENplus® certified companies is 250€/person\, each addi
 tional person from the same company pays 200€. The cost of participation
  for non-certified companies is 300€/person. The prices above are a subj
 ect of VAT 21%.\n\nRegistration! \n\nMaximum number of participants have r
 egistered for the session on 1 October 2025. You can still register for th
 e session on 2 October 2025 HERE
ATTACH;FMTTYPE=image/jpeg:https://enplus-pellets.eu/wp-content/uploads/202
 4/03/thumb_qm-training.png
CATEGORIES:International events
END:VEVENT
END:VCALENDAR