BEGIN:VCALENDAR
VERSION:2.0
PRODID:-//wp-events-plugin.com//7.2.2.1//EN
BEGIN:VEVENT
UID:41@enplus-pellets.eu
DTSTART;TZID=Europe/Warsaw;VALUE=DATE:20240509
DTEND;TZID=Europe/Warsaw;VALUE=DATE:20240511
DTSTAMP:20250708T124910Z
URL:https://enplus-pellets.eu/ENplus
 events/training-for-quality-managers-poland-2/
SUMMARY:Training for Quality Managers: Poland
DESCRIPTION:ENplus® is organizing a Quality Managers' training in Grudzią
 dz\, Poland on 9-10 May\, 2024.\n\nThe training is dedicated to the ENplus
 ® certified companies but is also open to anyone interested in discoverin
 g about the world-leading pellet certification. As ENplus® quality manag
 er\, this training course is mandatory if you have never attended a qualit
 y manager training in the current certification period.\n\nThis event is a
 n excellent opportunity to learn about the factory production control syst
 em\, including the rules of raw material collection\, wood pellet testing 
 in the factory laboratory\, complaint management and more. During the two-
 day training\, it will also be possible to visit a production line and par
 ticipate in practical workshops.\n\nThe training will be conducted in Pol
 ish.\n\nDetails of the program can be found in the agenda: AGENDA\n\nThe 
 first participant from an ENplus® certified company pays a fee of 280€\
 , each additional person from the same company pays 220€. The cost of pa
 rticipation for non-certified companies is 350 €/person.\n\nRegister: 
 HERE
ATTACH;FMTTYPE=image/jpeg:https://enplus-pellets.eu/wp-content/uploads/202
 4/03/thumb_qm-training.png
CATEGORIES:International events
LOCATION:Hotel „RAD”\, Chełmińska 144\, Grudziądz\, 86-300\, Poland
X-APPLE-STRUCTURED-LOCATION;VALUE=URI;X-ADDRESS=Chełmińska 144\, Grudzią
 dz\, 86-300\, Poland;X-APPLE-RADIUS=100;X-TITLE=Hotel „RAD”:geo:0,0
END:VEVENT
BEGIN:VTIMEZONE
TZID:Europe/Warsaw
X-LIC-LOCATION:Europe/Warsaw
BEGIN:DAYLIGHT
DTSTART:20240331T030000
TZOFFSETFROM:+0100
TZOFFSETTO:+0200
TZNAME:CEST
END:DAYLIGHT
END:VTIMEZONE
END:VCALENDAR