BEGIN:VCALENDAR
VERSION:2.0
PRODID:-//wp-events-plugin.com//7.2.2.1//EN
BEGIN:VEVENT
UID:94@enplus-pellets.eu
DTSTART:20250623T090000Z
DTEND:20250624T180000Z
DTSTAMP:20250708T124652Z
URL:https://enplus-pellets.eu/ENplus
 events/training-for-quality-managers-poland-4/
SUMMARY:Training for Quality Managers: Poland
DESCRIPTION:ENplus® is organizing a Quality Managers’ training in Janów
  Lubelski\, Poland on 23-24 June\, 2025.\n\nThe event is dedicated to the 
 ENplus® certified companies but is also open to anyone interested in dis
 covering about the world-leading pellet certification. As ENplus® qualit
 y manager\, this training course is mandatory if you have never attended a
  quality manager training in the current certification period\, and for th
 e new companies\, during the first year of the certification.\n\nThis even
 t will be an excellent opportunity to learn about the plant production con
 trol system\, including the rules for raw material collection\, wood pelle
 t testing in the plant laboratory\, complaints management and more. During
  the two-day training\, it will also be possible to visit a pelletizing li
 ne and to participate in lectures and practical workshops.\n\nThe training
  will be conducted in Polish.\n\nDetails of the program can be found in t
 he agenda: Agenda\n\nThe first participant from an ENplus® certified comp
 any pays a fee of 300€\, each additional person from the same company pa
 ys 250€. The cost of participation for non-certified companies is 380 
 €/person.\n\nParticipants should arrange by themselves their accommodati
 on.\n\nRegister: Maximum number of participants has been reached.
ATTACH;FMTTYPE=image/jpeg:https://enplus-pellets.eu/wp-content/uploads/202
 4/03/thumb_qm-training.png
CATEGORIES:International events
LOCATION:Hotel Duo Spa & Wellness\, Turystyczna 10A\, Janów Lubelski\, Pol
 and\, 23-300\, Poland
X-APPLE-STRUCTURED-LOCATION;VALUE=URI;X-ADDRESS=Turystyczna 10A\, Janów Lu
 belski\, Poland\, 23-300\, Poland;X-APPLE-RADIUS=100;X-TITLE=Hotel Duo Spa
  & Wellness:geo:0,0
END:VEVENT
END:VCALENDAR