BEGIN:VCALENDAR
VERSION:2.0
PRODID:-//wp-events-plugin.com//7.2.2.1//EN
BEGIN:VEVENT
UID:164@enplus-pellets.eu
DTSTART;VALUE=DATE:20251113
DTEND;VALUE=DATE:20251115
DTSTAMP:20251112T074625Z
URL:https://enplus-pellets.eu/ENplus
 events/training-for-quality-managers-poland-5/
SUMMARY:Training for Quality Managers: Poland
DESCRIPTION:ENplus® is organizing a Quality Managers’ training in Pozna
 ń\, Poland on 13-14 November\, 2025.\n\nThe event is dedicated to the ENp
 lus® certified companies but is also open to anyone interested in discov
 ering about the world-leading pellet certification. As ENplus® quality m
 anager\, this training course is mandatory if you have never attended a qu
 ality manager training in the current certification period\, and for the n
 ew companies\, during the first year of the certification.\n\nThis event w
 ill be an excellent opportunity to learn about the plant production contro
 l system\, including the rules for raw material collection\, wood pellet t
 esting in the plant laboratory\, complaints management and more. During th
 e two-day training\, it will also be possible to visit a pelletizing line 
 and to participate in lectures and practical workshops.\n\nThe training wi
 ll be conducted in Polish. \n\nDetails of the program can be found in th
 e agenda: Agenda\n\nThe first participant from an ENplus® certified compa
 ny pays a fee of 325€\, each additional person from the same company pay
 s 275€. The cost of participation for non-certified companies is 400 
 €/person.\n\nParticipants should arrange by themselves their accommodati
 on.\n\nRegister: closed
ATTACH;FMTTYPE=image/jpeg:https://enplus-pellets.eu/wp-content/uploads/202
 4/03/thumb_qm-training.png
CATEGORIES:International events
LOCATION:Novotel Poznan Malta\, Termalna 5\, 61-028 Poznań\, Poland\, Pozn
 ań\, Poland\, 61-028\, Poland
X-APPLE-STRUCTURED-LOCATION;VALUE=URI;X-ADDRESS=Termalna 5\, 61-028 Poznań
 \, Poland\, Poznań\, Poland\, 61-028\, Poland;X-APPLE-RADIUS=100;X-TITLE=
 Novotel Poznan Malta:geo:0,0
END:VEVENT
END:VCALENDAR