BEGIN:VCALENDAR
VERSION:2.0
PRODID:-//wp-events-plugin.com//7.2.2.1//EN
BEGIN:VEVENT
UID:105@enplus-pellets.eu
DTSTART;TZID=Europe/Brussels:20250916T110000
DTEND;TZID=Europe/Brussels:20250916T114500
DTSTAMP:20250708T124405Z
URL:https://enplus-pellets.eu/ENplus
 events/webinar-for-enplus-certified-companies-in-the-balkans/
SUMMARY:Webinar for ENplus® Certified Companies in the Balkans
DESCRIPTION:ENplus® is organising a webinar for certified companies based 
 in Bosnia and Herzegovina\, Croatia\, Montenegro and Serbia. The session w
 ill explain how ENplus® fights fraud and protects its trademark\, with pr
 actical tips on what fraudulent practices look like and how certified comp
 anies can help safeguard the value of the certification.\n\nThe webinar is
  free of charge and will be held in Serbo-Croatian.\n\nProvisional agenda:
 \n1. Welcome &amp\; Introduction\n2. What fraud means and how we handle it
 \n3. How certified companies can help\n4. Q&amp\;A\n\nRegister here
ATTACH;FMTTYPE=image/jpeg:https://enplus-pellets.eu/wp-content/uploads/202
 4/12/special-webinar-01.jpg
CATEGORIES:International events
END:VEVENT
BEGIN:VTIMEZONE
TZID:Europe/Brussels
X-LIC-LOCATION:Europe/Brussels
BEGIN:DAYLIGHT
DTSTART:20250330T030000
TZOFFSETFROM:+0100
TZOFFSETTO:+0200
TZNAME:CEST
END:DAYLIGHT
END:VTIMEZONE
END:VCALENDAR